BEGIN:VCALENDAR
VERSION:2.0
PRODID:-//Stitches &amp; Poetry by Ateljee AnnA B. - ECPv6.11.1//NONSGML v1.0//EN
CALSCALE:GREGORIAN
METHOD:PUBLISH
X-WR-CALNAME:Stitches &amp; Poetry by Ateljee AnnA B.
X-ORIGINAL-URL:https://ateljee-anna-b.be
X-WR-CALDESC:Events voor Stitches &amp; Poetry by Ateljee AnnA B.
REFRESH-INTERVAL;VALUE=DURATION:PT1H
X-Robots-Tag:noindex
X-PUBLISHED-TTL:PT1H
BEGIN:VTIMEZONE
TZID:Europe/Brussels
BEGIN:DAYLIGHT
TZOFFSETFROM:+0100
TZOFFSETTO:+0200
TZNAME:CEST
DTSTART:20220327T010000
END:DAYLIGHT
BEGIN:STANDARD
TZOFFSETFROM:+0200
TZOFFSETTO:+0100
TZNAME:CET
DTSTART:20221030T010000
END:STANDARD
BEGIN:DAYLIGHT
TZOFFSETFROM:+0100
TZOFFSETTO:+0200
TZNAME:CEST
DTSTART:20230326T010000
END:DAYLIGHT
BEGIN:STANDARD
TZOFFSETFROM:+0200
TZOFFSETTO:+0100
TZNAME:CET
DTSTART:20231029T010000
END:STANDARD
BEGIN:DAYLIGHT
TZOFFSETFROM:+0100
TZOFFSETTO:+0200
TZNAME:CEST
DTSTART:20240331T010000
END:DAYLIGHT
BEGIN:STANDARD
TZOFFSETFROM:+0200
TZOFFSETTO:+0100
TZNAME:CET
DTSTART:20241027T010000
END:STANDARD
BEGIN:DAYLIGHT
TZOFFSETFROM:+0100
TZOFFSETTO:+0200
TZNAME:CEST
DTSTART:20250330T010000
END:DAYLIGHT
BEGIN:STANDARD
TZOFFSETFROM:+0200
TZOFFSETTO:+0100
TZNAME:CET
DTSTART:20251026T010000
END:STANDARD
END:VTIMEZONE
BEGIN:VEVENT
DTSTART;TZID=Europe/Brussels:20251125T140000
DTEND;TZID=Europe/Brussels:20251125T170000
DTSTAMP:20260419T160622
CREATED:20241023T083604Z
LAST-MODIFIED:20251006T145601Z
UID:1072-1764079200-1764090000@ateljee-anna-b.be
SUMMARY:Workshop Haiku borduren
DESCRIPTION:Zin in een namiddag vol verwondering\, speelse woorden en vertragend creatief handwerk? \nIn deze bijzondere workshop waarin taal en handwerk samenkomen\, ga je met naald en draad aan de slag. Je brengt ofwel een eigen haiku mee die je mooi vindt of je kiest er eentje uit mijn dichtbundel ‘Wakkere Woorden’ en borduurt die met de naald en draad op stof of handgeschept papier. Dat kan je zelf kiezen naargelang je eigen voorkeur. Geen borduurervaring? Geen probleem! We gebruiken een heel eenvoudige steek\, en het draait vooral om met aandacht en verwondering iets te creëren. \nEen creatieve namiddag vol verstilling\, frisse inspiratie en een beetje magie. Je gaat naar huis met een handgeborduurde haiku – een stukje poëzie dat wordt omgezet in een tastbaar kunstwerkje. En je schenkt jezelf hiermee een creatieve pauze die tegelijk meditatief\, inspirerend en verrassend is. \n🧵 Alle materiaal is voorzien – jij hoeft enkel jezelf en een open verwonderende blik mee te brengen. Je krijgt je een basispakketje om een haiku op stof en een haiku op handgeschept 100% gerecycleerd katoenpapier te borduren. Wil je graag meerdere haiku’s borduren dan kan je ter plaatse voor een klein prijsje nog extra materiaal aankopen hiervoor. \nHet Pannenhuis is\, in samenwerking met Stad Brugge\, een tijdelijk huis van experiment met een bar\, een co-working plek en een speelkplek waar ‘spelen’ in de breedste zin van het woord wordt ingevuld — van kunst en beweging tot ideeën en experiment. Heel fijn dus dat deze workshop in zo’n gezellige creatieve omgeving kan plaatsvinden.
URL:https://ateljee-anna-b.be/event/haiku-borduren/
LOCATION:Het Pannenhuis\, Zandstraat 2\, Brugge\, 8200\, Belgium
ATTACH;FMTTYPE=image/png:https://ateljee-anna-b.be/wp-content/uploads/2024/10/2.png
ORGANIZER;CN="Ateljee AnnA B.":MAILTO:annbenoot@gmail.com
END:VEVENT
BEGIN:VEVENT
DTSTART;TZID=Europe/Brussels:20251120T140000
DTEND;TZID=Europe/Brussels:20251120T170000
DTSTAMP:20260419T160622
CREATED:20240512T013807Z
LAST-MODIFIED:20250830T215000Z
UID:1034-1763647200-1763658000@ateljee-anna-b.be
SUMMARY:Workshop Borduur je familiegeschiedenis in kleur\, CC Scharpoord Knokke
DESCRIPTION:Heb je nog zwart-wit foto’s uit de oude doos? In deze bijzondere workshop ga je aan de slag met oude familiefoto’s\, en pimp je die met kleurrijk borduurgaren tot een unieke creatie dat jouw dierbare herinneringen tot leven brengt. \nMet naald en draad ga je aan de slag om die vervlogen tijd wat terug te halen of dierbare herinneringen extra te koesteren. Je kleurt die oude foto’s in met borduursteken. Zo maak je er kleine kunstwerkjes van en borduur je verder op het verhaal van vroeger. Je hoeft absoluut geen borduurervaring te hebben. Met een paar eenvoudige steken kun je al snel leuke effecten bereiken.
URL:https://ateljee-anna-b.be/event/workshop-borduur-je-een-weg-naar-je-hart-cc-scharpoord-knokke/
LOCATION:CC Scharpoord Knokke-Heist\, Maxim Willemspad 1\, Knokke-Heist\, 8300
ATTACH;FMTTYPE=image/jpeg:https://ateljee-anna-b.be/wp-content/uploads/2025/02/IMG_20250222_092155_bewerkt-scaled.jpg
END:VEVENT
BEGIN:VEVENT
DTSTART;VALUE=DATE:20251021
DTEND;VALUE=DATE:20251119
DTSTAMP:20260419T160622
CREATED:20250224T103953Z
LAST-MODIFIED:20250812T124606Z
UID:1462-1761004800-1763510399@ateljee-anna-b.be
SUMMARY:'Troostmomenten' expo in St. Pieterskerk Oostkamp
DESCRIPTION:“Troostmomenten” is een bijzondere expo waar taal\, textiel\, klei\, staal en beeld elkaar ontmoeten.\nJe ontdekt er poëzie in een verrassende vorm: handgeborduurd\, letter voor letter\, woord voor woord. Gedichten en haiku’s als rode draad bij kleine en grote\nmomenten\, warme woorden die een moment van troost bieden. Met het hart geschreven en met de hand geborduurd door Ann Benoot. \nDe expo in de St.Pieterskerk in Oostkamp  is elke dag tussen 9u en 18u gratis te bezoeken. Van harte welkom!
URL:https://ateljee-anna-b.be/event/expo-troostmomenten-in-oostkamp/
LOCATION:St.Pieterskerk Oostkamp\, Sint Pietersplein 6\, Oostkamp\, 8020
ATTACH;FMTTYPE=image/png:https://ateljee-anna-b.be/wp-content/uploads/2025/02/Aankondiging-expo-troostmomenten-Kerk-Oostkamp.png
END:VEVENT
BEGIN:VEVENT
DTSTART;TZID=Europe/Brussels:20251020T140000
DTEND;TZID=Europe/Brussels:20251020T163000
DTSTAMP:20260419T160622
CREATED:20250224T102506Z
LAST-MODIFIED:20250812T125013Z
UID:1459-1760968800-1760977800@ateljee-anna-b.be
SUMMARY:Workshop 'Borduren op oude foto's' bij Avansa
DESCRIPTION:Heb je ook nog van die zwart-wit foto’s uit de oude doos? Herinneringen aan familieleden van voor jouw tijd? Misschien heeft iemand je verteld wie die personen waren. Of misschien zijn die verhalen gewoon vervlogen met de tijd. Samen met Ann Benoot ga je met naald en draad aan de slag om die tijd terug te halen of dierbare herinneringen extra te koesteren. Je kleurt die oude foto’s in met borduursteken. Zo maak je er kleine kunstwerkjes van en borduur je verder op het verhaal van vroeger. Maak je geen zorgen\, je hoeft absoluut geen borduurervaring te hebben. Met een paar eenvoudige steken bereik je al snel leuke effecten.
URL:https://ateljee-anna-b.be/event/workshop-borduren-op-oude-fotos/
LOCATION:Avansa\, Sint-Pieterskerklaan 5\, Brugge\, 8000\, Belgium
ATTACH;FMTTYPE=image/jpeg:https://ateljee-anna-b.be/wp-content/uploads/2025/02/IMG_20250222_092155_bewerkt-scaled.jpg
END:VEVENT
BEGIN:VEVENT
DTSTART;TZID=Europe/Brussels:20251017T110000
DTEND;TZID=Europe/Brussels:20251019T180000
DTSTAMP:20260419T160622
CREATED:20250901T032407Z
LAST-MODIFIED:20250908T013925Z
UID:1818-1760698800-1760896800@ateljee-anna-b.be
SUMMARY:Kunst in de Raat "Schoonheid troost" te Oostkamp
DESCRIPTION:Tijdens het weekend van 17 tot en met 19 oktober neem ik met mijn geborduurde poëzie deel aan een groepstentoonstelling Kunst in de Raat in Oostkamp. \nEen weekend vol kunst met een warm accent. Elke kunstenaar toont naast zijn/haar werk ook een stukje troost\, een werk rond het thema rouw en troost. Een persoonlijk\, ingetogen of krachtig stuk dat raakt aan wat ons stil maakt\, wat ons verbindt in verlies én in hoop. \nOpen op vrijdag 17\, zaterdag 18 en zondag 19 oktober\, telkens van 11 tot 18 uur\, gratis toegang.
URL:https://ateljee-anna-b.be/event/kunst-in-de-raat-schoonheid-troost-te-oostkamp/
LOCATION:De Raat\, Schooldreef 5\, Oostkamp\, 8020
ATTACH;FMTTYPE=image/jpeg:https://ateljee-anna-b.be/wp-content/uploads/2025/09/buren-bij-kunstenaars1-2025-scaled.jpg
END:VEVENT
BEGIN:VEVENT
DTSTART;TZID=Europe/Brussels:20251011T100000
DTEND;TZID=Europe/Brussels:20251012T180000
DTSTAMP:20260419T160622
CREATED:20240706T231123Z
LAST-MODIFIED:20250908T014003Z
UID:1051-1760176800-1760292000@ateljee-anna-b.be
SUMMARY:Geschenkenbeurs Steinerschool\, Assebroek
DESCRIPTION:De jaarlijkse geschenkenbeurs van de Steinerschool Brugge\, is een warme plek om mijn kleurrijke geborduurde creaties en originele kadootjes te komen ontdekken\, samen met het lekkers van mijn lief Sam Serveert en de mooie aquarelkaartjes van mijn schoonzus Xenia. \nMet 60 stands om te bezoeken is er altijd wel iets waar je blij van wordt. Super gezellige beurs waar we ieder jaar graag bij zijn!
URL:https://ateljee-anna-b.be/event/geschenkenbeurs-steinerschool-assebroek/
LOCATION:Steinerschool\, Astridlaan 86\, Assebroek\, 8310
ATTACH;FMTTYPE=image/jpeg:https://ateljee-anna-b.be/wp-content/uploads/2024/07/Flyer2025Recto.jpg
END:VEVENT
BEGIN:VEVENT
DTSTART;TZID=Europe/Brussels:20251001T100000
DTEND;TZID=Europe/Brussels:20251001T163000
DTSTAMP:20260419T160622
CREATED:20250830T214000Z
LAST-MODIFIED:20250830T214000Z
UID:1805-1759312800-1759336200@ateljee-anna-b.be
SUMMARY:Workshop Haiku schrijven en/of Borduren met naald en draad.
DESCRIPTION:Zin in een dag vol verwondering\, speelse woorden en vertragend creatief handwerk? Schrijf je dan hier in!  \nWil je nog wat meer info eerst 😉 Lees dan gerust nog wat verder 🙂 \nTijdens de voormiddag neem ik je mee in de wereld van de haiku – korte gedichten die vaak meer zeggen dan lange verhalen. Je hebt helemaal geen voorkennis nodig\, alleen een open blik en zin om te ontdekken. \nWe oefenen in het vertragen en waarnemen\, laten ons inspireren door wat we horen\, zien en voelen\, en geven dat vorm in drie eenvoudige regels. Haiku schrijven is meer dan dichten: het is een vorm van mindful aanwezig zijn – in het moment\, in de taal\, in jezelf. \nWe maken eerst een korte poëtische wandeling in de buurt in de natuur. Geen gewone wandeling\, maar eentje waarbij je met frisse ogen leert kijken. Wat zie je? Wat voel je? Wat valt je op? Met kleine speelse schrijfopdrachten vang je je indrukken in een haiku – een Japans minigedicht van drie regels\, waarin veel in weinig woorden gezegd wordt. \n’s Middags ga je met naald en draad aan de slag. Je kiest één van je haiku’s en borduurt die met de naald en draad op stof of handgeschept papier. Dat kan je zelf kiezen naargelang je eigen voorkeur. Geen borduurervaring? Geen probleem! We gebruiken een heel eenvoudige steek\, en het draait vooral om met aandacht en verwondering iets te creëren. \nEen creatieve dag vol verstilling\, frisse inspiratie en een beetje magie. Je gaat naar huis met een handgeborduurde haiku – een stukje poëzie van jou dat wordt omgezet in een tastbaar kunstwerkje. En je schenkt jezelf hiermee een creatieve pauze die tegelijk meditatief\, inspirerend en verrassend is. \n🧵 Alle materiaal is voorzien – jij hoeft enkel jezelf en een open verwonderende blik mee te brengen. Je krijgt om te starten een leuk notaboekje en potlood voor de schrijfoefeningen. ’s middags krijg je dan een basispakketje om een haiku op stof en een haiku op handgeschept 100% gerecycleerd katoenpapier te borduren. Wil je graag meerdere haiku’s borduren dan kan je ter plaatse voor een klein prijsje nog extra materiaal aankopen hiervoor. \nHet Pannenhuis is\, in samenwerking met Stad Brugge\, een tijdelijk huis van experiment met een bar\, een co-working plek en een speelkplek waar ‘spelen’ in de breedste zin van het woord wordt ingevuld — van kunst en beweging tot ideeën en experiment. Heel fijn dus dat deze workshopdag in zo’n gezellige creatieve omgeving kan plaatsvinden. Er is een bar waar je wat te drinken en een klein hapje te eten kan krijgen maar je kan ook zelf een lunchhapje voorzien om ’s middags te eten. Er zijn in de buurt ook wel lekkere lokale handelaars waar je iets kan halen. \nWil je enkel het haiku schrijven verkennen of net enkel met naald en draad aan de slag gaan om een reeds bestaande haiku uit mijn dichtbundel te borduren? Ook dat behoort tot de mogelijkheden. Je kan je apart inschrijven voor de voor- of namiddag. Kijk hiervoor op de overzichtspagina van mijn workshopaanbod. Al wil ik je heel graag uitnodigingen om mee te stappen in het volledige avontuur van een hele dag en beide spelenderwijs en in de flow te komen ontdekken. \nOvertuigd? Aarzal dan niet langer en schrijf je snel in!
URL:https://ateljee-anna-b.be/event/workshop-haiku-schrijven-en-of-borduren-met-naald-en-draad/
LOCATION:Het Pannenhuis\, Zandstraat 2\, Brugge\, 8200\, Belgium
ATTACH;FMTTYPE=image/png:https://ateljee-anna-b.be/wp-content/uploads/2024/10/6.png
ORGANIZER;CN="Ateljee AnnA B.":MAILTO:annbenoot@gmail.com
END:VEVENT
BEGIN:VEVENT
DTSTART;TZID=Europe/Brussels:20250919T100000
DTEND;TZID=Europe/Brussels:20250919T163000
DTSTAMP:20260419T160622
CREATED:20241023T083128Z
LAST-MODIFIED:20250830T214137Z
UID:1069-1758276000-1758299400@ateljee-anna-b.be
SUMMARY:Workshop Haiku schrijven en/of Borduren met naald en draad
DESCRIPTION:Zin in een dag vol verwondering\, speelse woorden en vertragend creatief handwerk? Schrijf je dan hier in!  \nWil je nog wat meer info eerst 😉 Lees dan gerust nog wat verder 🙂 \nTijdens de voormiddag neem ik je mee in de wereld van de haiku – korte gedichten die vaak meer zeggen dan lange verhalen. Je hebt helemaal geen voorkennis nodig\, alleen een open blik en zin om te ontdekken. \nWe oefenen in het vertragen en waarnemen\, laten ons inspireren door wat we horen\, zien en voelen\, en geven dat vorm in drie eenvoudige regels. Haiku schrijven is meer dan dichten: het is een vorm van mindful aanwezig zijn – in het moment\, in de taal\, in jezelf. \nWe maken eerst een korte poëtische wandeling in de buurt in de natuur. Geen gewone wandeling\, maar eentje waarbij je met frisse ogen leert kijken. Wat zie je? Wat voel je? Wat valt je op? Met kleine speelse schrijfopdrachten vang je je indrukken in een haiku – een Japans minigedicht van drie regels\, waarin veel in weinig woorden gezegd wordt. \n’s Middags ga je met naald en draad aan de slag. Je kiest één van je haiku’s en borduurt die met de naald en draad op stof of handgeschept papier. Dat kan je zelf kiezen naargelang je eigen voorkeur. Geen borduurervaring? Geen probleem! We gebruiken een heel eenvoudige steek\, en het draait vooral om met aandacht en verwondering iets te creëren. \nEen creatieve dag vol verstilling\, frisse inspiratie en een beetje magie. Je gaat naar huis met een handgeborduurde haiku – een stukje poëzie van jou dat wordt omgezet in een tastbaar kunstwerkje. En je schenkt jezelf hiermee een creatieve pauze die tegelijk meditatief\, inspirerend en verrassend is. \n🧵 Alle materiaal is voorzien – jij hoeft enkel jezelf en een open verwonderende blik mee te brengen. Je krijgt om te starten een leuk notaboekje en potlood voor de schrijfoefeningen. ’s middags krijg je dan een basispakketje om een haiku op stof en een haiku op handgeschept 100% gerecycleerd katoenpapier te borduren. Wil je graag meerdere haiku’s borduren dan kan je ter plaatse voor een klein prijsje nog extra materiaal aankopen hiervoor. \nHet Pannenhuis is\, in samenwerking met Stad Brugge\, een tijdelijk huis van experiment met een bar\, een co-working plek en een speelkplek waar ‘spelen’ in de breedste zin van het woord wordt ingevuld — van kunst en beweging tot ideeën en experiment. Heel fijn dus dat deze workshopdag in zo’n gezellige creatieve omgeving kan plaatsvinden. Er is een bar waar je wat te drinken en een klein hapje te eten kan krijgen maar je kan ook zelf een lunchhapje voorzien om ’s middags te eten. Er zijn in de buurt ook wel lekkere lokale handelaars waar je iets kan halen. \nWil je enkel het haiku schrijven verkennen of net enkel met naald en draad aan de slag gaan om een reeds bestaande haiku uit mijn dichtbundel te borduren? Ook dat behoort tot de mogelijkheden. Je kan je apart inschrijven voor de voor- of namiddag. Kijk hiervoor op de overzichtspagina van mijn workshopaanbod. Al wil ik je heel graag uitnodigingen om mee te stappen in het volledige avontuur van een hele dag en beide spelenderwijs en in de flow te komen ontdekken. \nOvertuigd? Aarzal dan niet langer en schrijf je snel in!
URL:https://ateljee-anna-b.be/event/workshop-haiku-schrijven-en-borduren/
LOCATION:Het Pannenhuis\, Zandstraat 2\, Brugge\, 8200\, Belgium
ATTACH;FMTTYPE=image/png:https://ateljee-anna-b.be/wp-content/uploads/2024/10/6.png
ORGANIZER;CN="Ateljee AnnA B.":MAILTO:annbenoot@gmail.com
END:VEVENT
BEGIN:VEVENT
DTSTART;TZID=Europe/Brussels:20250417T100000
DTEND;TZID=Europe/Brussels:20250417T200000
DTSTAMP:20260419T160622
CREATED:20250215T005235Z
LAST-MODIFIED:20250315T230858Z
UID:1091-1744884000-1744920000@ateljee-anna-b.be
SUMMARY:Open ateljeedag 'Haiku schrijven met naald en draad' op Wereldhaikudag
DESCRIPTION:Donderdag 17 april is het wereldhaikudag! Als haiku-liefhebber kan ik deze dag niet zomaar voorbij laten gaan en wil ik zoveel mensen laten kennismaken met het plezier en het vertragende effect van haiku borduren.  Tijdens deze open ateljeedag kan je tussen 10u en 20u langskomen op een moment dat jou het beste uitkomt en blijven hangen zolang je wil 🙂 We mogen namelijk een ruimte gebruiken in het mooie Pannenhuis (Zandstraat 2 te Brugge). Dit voormalige hotel heeft een tijdelijke invulling gekregen als buurthuis en creatieve ontmoetingsplek. Zalig toch! \nMeer info en inschrijven via deze link. \nGraag tot dan!
URL:https://ateljee-anna-b.be/event/haiku-borduren-op-wereldhaikudag/
LOCATION:Het Pannenhuis\, Zandstraat 2\, Brugge\, 8200\, Belgium
ATTACH;FMTTYPE=image/jpeg:https://ateljee-anna-b.be/wp-content/uploads/2022/10/Afbeeldingssjabloon-homepagina-website.jpg
ORGANIZER;CN="Ateljee AnnA B.":MAILTO:annbenoot@gmail.com
END:VEVENT
BEGIN:VEVENT
DTSTART;TZID=Europe/Brussels:20250213T140000
DTEND;TZID=Europe/Brussels:20250213T170000
DTSTAMP:20260419T160622
CREATED:20241023T083951Z
LAST-MODIFIED:20241023T084054Z
UID:1075-1739455200-1739466000@ateljee-anna-b.be
SUMMARY:Workshop Borduur je eigen fotoverhaal
DESCRIPTION:Borduren is één van die activiteiten waarbij je helemaal in het moment kan duiken.\nHeb je altijd al willen leren hoe je je eigen verhaal kan vertellen in de vorm van een geborduurde silhouet? \nTijdens deze workshop ontdek je samen met Ann Benoot hoe je met enkele eenvoudige steken een wereld van creatieve mogelijkheden kunt ontsluiten.\nOf je nu een woord of quote wilt vereeuwigen dat voor jou een speciale betekenis heeft\, een dierbare herinnering wilt vastleggen aan de hand van een foto\, of een eigen tekening wilt omzetten in een persoonlijk borduurwerk\, de mogelijkheden zijn eindeloos. \nDoor jouw verhaal in draad om te zetten\, herbeleef je je herinneringen in een rustgevend\, vertraagd tempo. Het resultaat is niet alleen een prachtige\, tastbare herinnering\, maar ook een unieke creatie die jouw persoonlijke verhaal vertelt. \nErvaring met borduren mag maar hoeft niet. De nadruk ligt op het genieten en ontspannen bezig zijn met naald en draad. \nInschrijven via deze pagina van CC Knokke-Heist
URL:https://ateljee-anna-b.be/event/borduur-je-eigen-fotoverhaal/
LOCATION:CC Scharpoord Knokke-Heist\, Maxim Willemspad 1\, Knokke-Heist\, 8300
ATTACH;FMTTYPE=image/png:https://ateljee-anna-b.be/wp-content/uploads/2024/05/Voorbeeld-geborduurde-lijntekening-op-basis-van-foto.png
END:VEVENT
BEGIN:VEVENT
DTSTART;TZID=Europe/Brussels:20250130T130000
DTEND;TZID=Europe/Brussels:20250209T170000
DTSTAMP:20260419T160622
CREATED:20241225T032522Z
LAST-MODIFIED:20250122T142500Z
UID:1082-1738242000-1739120400@ateljee-anna-b.be
SUMMARY:Poëzie-expo "Door het oog van de naald"
DESCRIPTION:Poëzie als rode draad doorheen het weefsel van het leven. \nEen bijzondere expo waar taal en textiel elkaar ontmoeten. In “Door het oog van de naald” ervaar je poëzie in een verrassende vorm: handgeborduurd\, letter voor letter\, woord voor woord. \nDeze unieke tentoonstelling toont eigengeschreven gedichten en haiku’s die niet alleen op papier staan\, maar die zich ook letterlijk en figuurlijk in het weefsel van stof hebben genesteld. De poëzie als een rode draad die steek voor de steek de complexiteit en de schoonheid van het leven beschrijft. \nNeem dus zeker ruim de tijd om deze expo te komen ontdekken tijdens de poëzieweek. \nAnn Benoot schrijft en borduurt hiermee een vervolg op haar eerste succesvolle poëzie-expo in de Magdalenakerk van een aantal jaar geleden. Zij zal ook meerdere namiddagen zelf bordurend aanwezig zijn tijdens de tentoonstelling. Informeer vooraf via mail welke dagen je haar aan het werk kan zien en een babbel kan komen doen. \nVan harte welkom! \nDe expo is van donderdag 30 januari tot en met zondag 9 februari elke dag gratis te bezoeken van 13u00 tot 17u00 \nMeer info op de projectsite: www.stitchesandpoetry.be
URL:https://ateljee-anna-b.be/event/poezie-expo-door-het-oog-van-de-naald/
LOCATION:Magdalenakerk\, Stalijzerstraat 19\, Brugge\, 8000\, Belgium
ATTACH;FMTTYPE=image/png:https://ateljee-anna-b.be/wp-content/uploads/2024/12/Affiche-poezie-expo.png
ORGANIZER;CN="Ann Benoot":MAILTO:annbenoot@gmail.com
END:VEVENT
BEGIN:VEVENT
DTSTART;TZID=Europe/Brussels:20241007T140000
DTEND;TZID=Europe/Brussels:20241007T170000
DTSTAMP:20260419T160622
CREATED:20240706T230801Z
LAST-MODIFIED:20240706T230801Z
UID:1048-1728309600-1728320400@ateljee-anna-b.be
SUMMARY:Workshop Zen met naald en draad\, Avansa\, Blankenberge
DESCRIPTION:Aan de hand van een eenvoudige\, creatieve borduurtechniek leert Ann Benoot (Ateljee AnnA B) je vertragen. De eeuwenoude Japanse borduurvorm ‘sashiko boro’ ontstond uit noodzaak om kleren te repareren. Al vlug ontwikkelde zich een nieuwe\, eenvoudige borduurstijl. Je maakt een klein tasje aan de hand van lapjes stof en een simpele borduursteek. Zo kom je helemaal tot rust en geniet je van het moment. Je hoeft geen ervaring te hebben om aan deze activiteit deel te nemen.
URL:https://ateljee-anna-b.be/event/workshop-zen-met-naald-en-draad-avansa-blankenberge/
LOCATION:Bibliotheek Blankenberge\, Onderwijsstraat 17\, Blankenberge\, 8370
END:VEVENT
BEGIN:VEVENT
DTSTART;TZID=Europe/Brussels:20240702T100000
DTEND;TZID=Europe/Brussels:20240702T160000
DTSTAMP:20260419T160622
CREATED:20240512T012951Z
LAST-MODIFIED:20240512T014023Z
UID:1028-1719914400-1719936000@ateljee-anna-b.be
SUMMARY:Workshop Haiku schrijven en borduren\, Avansa
DESCRIPTION:Een haiku is oorspronkelijk een klein en fijn natuurgedicht. Het vraagt een oefening in waarnemen en beeldend verwoorden. Ann neemt je mee naar een park in de buurt en leert je met andere ogen kijken. Ze geeft je hierbij ook heel wat tips om je indrukken daarna tot enkele mooie haiku’s te verwerken. Na de middag borduur je met de hand één van jouw stukjes poëzie. Je hebt hiervoor geen borduur- of naaiervaring nodig\, je werkt met een eenvoudige basissteek. De workshop is scheppend en ontspannend\, en – door de combinatie van de wandeling en het met de hand borduren van je haiku – te beschouwen als een meditatief zenmoment. \nAlle materiaal is in de prijs inbegrepen\, je hoeft dus niets mee te brengen. Zorg enkel voor een lunchpakket en indien nodig aangepaste kledij om de natuur in te trekken.\nAfspraakpunt is het Avansahuis\, waar je ook terug komt om te borduren.
URL:https://ateljee-anna-b.be/event/workshop-haiku-schrijven-en-borduren-bij-avansa/
LOCATION:Avansa\, Sint-Pieterskerklaan 5\, Brugge\, 8000\, Belgium
ATTACH;FMTTYPE=image/jpeg:https://ateljee-anna-b.be/wp-content/uploads/2024/05/Geborduurde-haiku.jpg
END:VEVENT
BEGIN:VEVENT
DTSTART;TZID=Europe/Brussels:20240519T100000
DTEND;TZID=Europe/Brussels:20240519T170000
DTSTAMP:20260419T160622
CREATED:20240512T011907Z
LAST-MODIFIED:20240512T011907Z
UID:1013-1716112800-1716138000@ateljee-anna-b.be
SUMMARY:Schaapscheerdag Kinderboerderij De Zeven Torentjes
DESCRIPTION:Het is tijd om de schapen te ontdoen van hun wollige winterjas. Maar wat wordt met al die wol gedaan? Tijdens de Schaapscheerdag kun je deelnemen aan allerlei workshops en demonstraties\, dus zorg dat je erbij bent. Ook Ateljee AnnA B. is van de partij met een standje. \nDoorlopend toegang\, zonder reservatie – gratis
URL:https://ateljee-anna-b.be/event/schaapscheerdag-kinderboerderij-de-zeven-torentjes/
LOCATION:Kinderboerderij De Zeven Torentjes\, Canadaring 41\, Brugge\, 8310\, Belgium
ATTACH;FMTTYPE=image/png:https://ateljee-anna-b.be/wp-content/uploads/2024/05/schaapscheerdag.png
END:VEVENT
BEGIN:VEVENT
DTSTART;TZID=Europe/Brussels:20221217T130000
DTEND;TZID=Europe/Brussels:20221217T180000
DTSTAMP:20260419T160622
CREATED:20221128T071149Z
LAST-MODIFIED:20221128T071149Z
UID:549-1671282000-1671300000@ateljee-anna-b.be
SUMMARY:Kerstmarkt WZC Ter Potterie
DESCRIPTION:Op 17 december van 13u tot 18u gaat in WZC Ter Potterie een kleine gezellig kerstmarkt door.
URL:https://ateljee-anna-b.be/event/kerstmarkt-wzc-ter-potterie/
LOCATION:WZC Ter Potterie\, Peterseliestraat 21\, Brugge\, West-Vlaanderen\, 8000\, Belgium
ATTACH;FMTTYPE=image/png:https://ateljee-anna-b.be/wp-content/uploads/2022/11/mintus.png
END:VEVENT
BEGIN:VEVENT
DTSTART;TZID=Europe/Brussels:20221216T160000
DTEND;TZID=Europe/Brussels:20221216T200000
DTSTAMP:20260419T160622
CREATED:20221115T191733Z
LAST-MODIFIED:20221115T191733Z
UID:539-1671206400-1671220800@ateljee-anna-b.be
SUMMARY:Talentenmarkt Viro vzw
DESCRIPTION:Viro vzw organiseert op 16 december opnieuw een talentenmarkt\, een wintereditie deze keer!\nHet middenplein van Viro Ter Dreve vormt het gezellige decor voor een markt van groot en klein talent.
URL:https://ateljee-anna-b.be/event/talentenmarkt-viro-vzw/
LOCATION:Viro vzw\, Koning Albert-I-laan 188\, Brugge\, 8000
ATTACH;FMTTYPE=image/jpeg:https://ateljee-anna-b.be/wp-content/uploads/2022/11/talentmarkt-Viro.jpg
END:VEVENT
BEGIN:VEVENT
DTSTART;TZID=Europe/Brussels:20221210T170000
DTEND;TZID=Europe/Brussels:20221210T230000
DTSTAMP:20260419T160622
CREATED:20221106T235443Z
LAST-MODIFIED:20221106T235620Z
UID:260-1670691600-1670713200@ateljee-anna-b.be
SUMMARY:Kerstmarkt Oedelem
DESCRIPTION:Gezellige kerstmarkt in het centrum van Oedelem. Nieuw dit jaar is onze ambachtenmarkt. De ambachtenmarkt zal doorgaan in de verwarmde gezellige kerk van Oedelem\, deze is zal voor de gelegenheid stijlvol versierd en gezellig verlicht worden.
URL:https://ateljee-anna-b.be/event/kersmarkt-oedelem/
LOCATION:Kerk Oedelem\, Oudezakstraat\, OEDELEM\, 8730\, Belgium
ATTACH;FMTTYPE=image/jpeg:https://ateljee-anna-b.be/wp-content/uploads/2022/11/Kerstmarkt-2022-Oedelem.jpg
END:VEVENT
BEGIN:VEVENT
DTSTART;TZID=Europe/Brussels:20221127T103000
DTEND;TZID=Europe/Brussels:20221127T173000
DTSTAMP:20260419T160622
CREATED:20221012T175005Z
LAST-MODIFIED:20221012T175005Z
UID:216-1669545000-1669570200@ateljee-anna-b.be
SUMMARY:LokaaL Boetiek Gent
DESCRIPTION:Op Lokaal Boetiek koop je rechtstreeks van straffe Belgische makers. Stuk voor stuk unieke stukken. \nJe kiest daarmee voor een uniek\, eerlijk en ecologisch product dat in België is gemaakt. Het betekent dat je lokale productie ondersteunt en bewust kiest voor kwaliteit\, van mensen die dag in dag uit bezig zijn met hun ambacht. \nLokaal Boetiek is een gratis beurs.
URL:https://ateljee-anna-b.be/event/lokaal-boetiek-gent/
LOCATION:Santo\, Peter Benoitlaan 78/80\, Gent\, 9050
ATTACH;FMTTYPE=image/png:https://ateljee-anna-b.be/wp-content/uploads/2022/10/afbeelding-lokaal-boetiek.png
END:VEVENT
BEGIN:VEVENT
DTSTART;TZID=Europe/Brussels:20221120T103000
DTEND;TZID=Europe/Brussels:20221120T173000
DTSTAMP:20260419T160622
CREATED:20221012T175216Z
LAST-MODIFIED:20221012T175216Z
UID:221-1668940200-1668965400@ateljee-anna-b.be
SUMMARY:Lokaal Boetiek Brugge
DESCRIPTION:Op Lokaal Boetiek koop je rechtstreeks van straffe Belgische makers. Stuk voor stuk unieke stukken. \nJe kiest daarmee voor een uniek\, eerlijk en ecologisch product dat in België is gemaakt. Het betekent dat je lokale productie ondersteunt en bewust kiest voor kwaliteit\, van mensen die dag in dag uit bezig zijn met hun ambacht. \nLokaal Boetiek is een gratis beurs.
URL:https://ateljee-anna-b.be/event/lokaal-boetiek-brugge/
LOCATION:Xaverianensite Brugge\, Xaverianenstraat 3\, Brugge\, 8200
ATTACH;FMTTYPE=image/png:https://ateljee-anna-b.be/wp-content/uploads/2022/10/afbeelding-lokaal-boetiek.png
END:VEVENT
END:VCALENDAR